BEGIN:VCALENDAR
VERSION:2.0
PRODID:-// - ECPv6.15.17//NONSGML v1.0//EN
CALSCALE:GREGORIAN
METHOD:PUBLISH
X-ORIGINAL-URL:https://www.luannikas.fi
X-WR-CALDESC:Tapahtumat 
REFRESH-INTERVAL;VALUE=DURATION:PT1H
X-Robots-Tag:noindex
X-PUBLISHED-TTL:PT1H
BEGIN:VTIMEZONE
TZID:UTC
BEGIN:STANDARD
TZOFFSETFROM:+0000
TZOFFSETTO:+0000
TZNAME:UTC
DTSTART:20220101T000000
END:STANDARD
END:VTIMEZONE
BEGIN:VEVENT
DTSTART;VALUE=DATE:20231006
DTEND;VALUE=DATE:20231009
DTSTAMP:20260425T035029
CREATED:20230811T113618Z
LAST-MODIFIED:20230811T113618Z
UID:1781-1696550400-1696809599@www.luannikas.fi
SUMMARY:Seinäjoen käsityömessut\, Seinäjoki-Areena
DESCRIPTION:
URL:https://www.luannikas.fi/event/seinajoen-kasityomessut-seinajoki-areena/
END:VEVENT
END:VCALENDAR